BEGIN:VCALENDAR
PRODID:-//eluceo/ical//2.0/EN
VERSION:2.0
CALSCALE:GREGORIAN
BEGIN:VEVENT
UID:34892c435f96ac36a66c1612569d7bdb
DTSTAMP:20260420T094936Z
SUMMARY:Committing to Action: A Training on Situational Awareness
DESCRIPTION:Regional CT Security Initiative\nUpcoming Trainings & Assessmen
 ts\nhttps://securejewishct.org/trainings-assessments-calendar/Committing-t
 o-Action-A-Training-on-Situational-Awareness-and-Countering-Active-Threats
 -09072023\n\nPlease join SCN\, security executives\, law enforcement\, and
  professional as well as volunteer leadership to prepare for the safety an
 d security challenges facing the Jewish community this High Holiday season
 .\n\n 
DTSTART;TZID=America/New_York:20230907T140000
DTEND;TZID=America/New_York:20230907T150000
END:VEVENT
END:VCALENDAR
