BEGIN:VCALENDAR
PRODID:-//eluceo/ical//2.0/EN
VERSION:2.0
CALSCALE:GREGORIAN
BEGIN:VEVENT
UID:4c028fada3e1683392649d613288cef3
DTSTAMP:20260420T063239Z
SUMMARY:Functional Needs and Emergency Preparedness
DESCRIPTION:Regional CT Security Initiative\nUpcoming Trainings & Assessmen
 ts\nhttps://securejewishct.org/trainings-assessments-calendar/Functional-N
 eeds-and-Emergency-Preparedness-08242023\n\nPlease join SCN\, security exe
 cutives\, law enforcement\, and professional as well as volunteer leadersh
 ip to prepare for the safety and security challenges facing the Jewish com
 munity this High Holiday season.\n\n 
DTSTART;TZID=America/New_York:20230824T140000
DTEND;TZID=America/New_York:20230824T150000
END:VEVENT
END:VCALENDAR
