BEGIN:VCALENDAR
PRODID:-//eluceo/ical//2.0/EN
VERSION:2.0
CALSCALE:GREGORIAN
BEGIN:VEVENT
UID:015cf8c24f90d6def7e308b3455ea7af
DTSTAMP:20260420T071657Z
SUMMARY:When Seconds Count: How To Stop The Bleed To Save A Life
DESCRIPTION:Regional CT Security Initiative\nUpcoming Trainings & Assessmen
 ts\nhttps://securejewishct.org/trainings-assessments-calendar/When-Seconds
 -Count-How-To-Stop-The-Bleed-To-Save-A-Life-09062023\n\nPlease join SCN\, 
 security executives\, law enforcement\, and professional as well as volunt
 eer leadership to prepare for the safety and security challenges facing th
 e Jewish community this High Holiday season.\n\n 
DTSTART;TZID=America/New_York:20230906T140000
DTEND;TZID=America/New_York:20230906T150000
END:VEVENT
END:VCALENDAR
