BEGIN:VCALENDAR
PRODID:-//eluceo/ical//2.0/EN
VERSION:2.0
CALSCALE:GREGORIAN
BEGIN:VEVENT
UID:9db5e125db7b536963f02989f7857170
DTSTAMP:20260420T100003Z
SUMMARY:A Training on Situational Awareness and Countering an Active Threat
DESCRIPTION:Regional CT Security Initiative\nUpcoming Trainings & Assessmen
 ts\nhttps://securejewishct.org/trainings-assessments-calendar/a-training-o
 n-situational-awareness-and-countering-an-active-threat\n\nAn active threa
 t event is unpredictable and evolves quickly. These events are typically o
 ver in three to five minutes. Knowing how to disarm danger before it occur
 s and what to do once it happens can save lives. Please join the Secure Co
 mmunity Network’s training on Situational Awareness and Countering an Ac
 tive Threat\, where you will learn lifesaving actions you can take during 
 an active threat incident.
DTSTART;TZID=America/New_York:20240808T140000
DTEND;TZID=America/New_York:20240808T153000
END:VEVENT
END:VCALENDAR
