BEGIN:VCALENDAR
PRODID:-//eluceo/ical//2.0/EN
VERSION:2.0
CALSCALE:GREGORIAN
BEGIN:VEVENT
UID:990358aba9fb2ae26f35ac068f8b593b
DTSTAMP:20260420T071845Z
SUMMARY:A Training on Situational Awareness and Countering an Active Threat
  Encore
DESCRIPTION:Regional CT Security Initiative\nUpcoming Trainings & Assessmen
 ts\nhttps://securejewishct.org/trainings-assessments-calendar/a-training-o
 n-situational-awareness-and-countering-an-active-threat-encore\n\nAn activ
 e threat event is unpredictable and evolves quickly. These events are typi
 cally over in three to five minutes. Knowing how to disarm danger before i
 t occurs and what to do once it happens can save lives. Please join the Se
 cure Community Network’s training on Situational Awareness and Counterin
 g an Active Threat\, where you will learn lifesaving actions you can take 
 during an active threat incident.
DTSTART;TZID=America/New_York:20240808T203000
DTEND;TZID=America/New_York:20240808T220000
END:VEVENT
END:VCALENDAR
