BEGIN:VCALENDAR
PRODID:-//eluceo/ical//2.0/EN
VERSION:2.0
CALSCALE:GREGORIAN
BEGIN:VEVENT
UID:d7508af0d351340e5c07f89c37db2715
DTSTAMP:20260420T092356Z
SUMMARY:Agudath Shalom CAT Training
DESCRIPTION:Regional CT Security Initiative\nUpcoming Trainings & Assessmen
 ts\nhttps://securejewishct.org/trainings-assessments-calendar/agudath-shal
 om-cat-training\n\nAll trainings require registration to attend. If you ar
 e interested in attending\, please contact Michael Shanbrom at mshanbrom@
 securecommunitynetwork.org to register.
DTSTART;TZID=America/New_York:20220126T000000
DTEND;TZID=America/New_York:20220126T235959
END:VEVENT
END:VCALENDAR
