BEGIN:VCALENDAR
PRODID:-//eluceo/ical//2.0/EN
VERSION:2.0
CALSCALE:GREGORIAN
BEGIN:VEVENT
UID:ca0747bb7fa37e5d401fbec3af329d33
DTSTAMP:20260420T063531Z
SUMMARY:BEAWARE: INTRODUCTION TO SITUATIONAL AWARENESS TRAINING
DESCRIPTION:Regional CT Security Initiative\nUpcoming Trainings & Assessmen
 ts\nhttps://securejewishct.org/trainings-assessments-calendar/beaware-intr
 oduction-to-situational-awareness-training-398196\n\nBeAware\, SCN’s Int
 roduction to Situational Awareness Course\, will teach you how to recogniz
 e suspicious or potentially dangerous behavior and threats\, and what to d
 o – whether you are in synagogue\, at school\, or going about your day.\
 n\nDesigned for every member of the community\, no background in security 
 is required. The course will cover the basics of situational awareness and
  how to help protect yourself\, your family\, and your community – where
 ver you may be.\n\nTOPICS COVERED:\n\n\n...
DTSTART;TZID=America/New_York:20220127T130000
DTEND;TZID=America/New_York:20220127T140000
END:VEVENT
END:VCALENDAR
