BEGIN:VCALENDAR
PRODID:-//eluceo/ical//2.0/EN
VERSION:2.0
CALSCALE:GREGORIAN
BEGIN:VEVENT
UID:3f1cd51ec67b7f61ddd1d283b9263b3e
DTSTAMP:20260420T055250Z
SUMMARY:Beverly Levy Early Learning Center CAT Training
DESCRIPTION:Regional CT Security Initiative\nUpcoming Trainings & Assessmen
 ts\nhttps://securejewishct.org/trainings-assessments-calendar/beverly-levy
 -early-learning-center-cat-training\n\nAll trainings require registration 
 to attend. If you are interested in attending\, please contact Michael Sha
 nbrom at mshanbrom@securecommunitynetwork.org to register.
DTSTART;TZID=America/New_York:20220221T000000
DTEND;TZID=America/New_York:20220221T235959
END:VEVENT
END:VCALENDAR
