BEGIN:VCALENDAR
PRODID:-//eluceo/ical//2.0/EN
VERSION:2.0
CALSCALE:GREGORIAN
BEGIN:VEVENT
UID:0abd3edc55db796202c043045e81ff91
DTSTAMP:20260420T094259Z
SUMMARY:Bi-Cultural Hebrew Academy CAT Training
DESCRIPTION:Regional CT Security Initiative\nUpcoming Trainings & Assessmen
 ts\nhttps://securejewishct.org/trainings-assessments-calendar/bi-cultural-
 hebrew-academy-cat-training\n\nAll trainings require registration to atten
 d. If you are interested in attending\, please contact Michael Shanbrom at
  mshanbrom@securecommunitynetwork.org to register.
DTSTART;TZID=America/New_York:20220117T000000
DTEND;TZID=America/New_York:20220117T235959
END:VEVENT
END:VCALENDAR
