BEGIN:VCALENDAR
PRODID:-//eluceo/ical//2.0/EN
VERSION:2.0
CALSCALE:GREGORIAN
BEGIN:VEVENT
UID:a8c628aa5b57a744e03484a555b63f0b
DTSTAMP:20260422T115800Z
SUMMARY:Commit To Action: Countering Active Threat Training
DESCRIPTION:Regional CT Security Initiative\nUpcoming Trainings & Assessmen
 ts\nhttps://securejewishct.org/trainings-assessments-calendar/commit-to-ac
 tion-countering-active-threat-training\n\nAntisemitic rhetoric and inciden
 ts are on the rise\, especially in the wake of the Hamas attacks on Israel
 . As the conflict rages on\, the North American Jewish community continues
  to face an evolving threat landscape. Commit to action and learn life-sav
 ing skills in the event of an active threat.\n\nAn active threat event is 
 unpredictable and evolves quickly. These events are typically over between
  three and five minutes. Please join the Secure Community Network\, along 
 with subject matter expe...
DTSTART;TZID=America/New_York:20231109T140000
DTEND;TZID=America/New_York:20231109T151500
END:VEVENT
END:VCALENDAR
