BEGIN:VCALENDAR
PRODID:-//eluceo/ical//2.0/EN
VERSION:2.0
CALSCALE:GREGORIAN
BEGIN:VEVENT
UID:17c5cf396d053d33b06d4bdfd66d9824
DTSTAMP:20260420T095254Z
SUMMARY:Countering Active Threat Training (CATT) Webinar
DESCRIPTION:Regional CT Security Initiative\nUpcoming Trainings & Assessmen
 ts\nhttps://securejewishct.org/trainings-assessments-calendar/countering-a
 ctive-threat-training-catt-webinar\n\nJoin the Secure Commnuity Network (S
 CN) on February 16th for a training on what to do in the event of an activ
 e threat.\n\nParticipants will:\n\n\nUnderstand how to prepare for an acti
 ve threat event\nLearn how to survive an active threat event\nKnow what to
  do when law enforcement arrives\nBe able to Commit to Action during an ac
 tive threat event
DTSTART;TZID=America/New_York:20220216T130000
DTEND;TZID=America/New_York:20220216T140000
END:VEVENT
END:VCALENDAR
