BEGIN:VCALENDAR
PRODID:-//eluceo/ical//2.0/EN
VERSION:2.0
CALSCALE:GREGORIAN
BEGIN:VEVENT
UID:648d292dd1b4010cf81ee946d813aa90
DTSTAMP:20260422T102335Z
SUMMARY:Ezra Academy CAT Training
DESCRIPTION:Regional CT Security Initiative\nUpcoming Trainings & Assessmen
 ts\nhttps://securejewishct.org/trainings-assessments-calendar/ezra-academy
 -cat-training\n\nAll trainings require registration to attend. If you are 
 interested in attending\, please contact Michael Shanbrom at mshanbrom@se
 curecommunitynetwork.org to register.
DTSTART;TZID=America/New_York:20220223T000000
DTEND;TZID=America/New_York:20220223T235959
END:VEVENT
END:VCALENDAR
