BEGIN:VCALENDAR
PRODID:-//eluceo/ical//2.0/EN
VERSION:2.0
CALSCALE:GREGORIAN
BEGIN:VEVENT
UID:b941ec40d6d417cd2f0c8064d940e3cd
DTSTAMP:20260422T125956Z
SUMMARY:Firearms & The Faithful/Private Security Considerations
DESCRIPTION:Regional CT Security Initiative\nUpcoming Trainings & Assessmen
 ts\nhttps://securejewishct.org/trainings-assessments-calendar/firearms-the
 -faithfulprivate-security-considerations-08102023\n\nHouses of worship are
  meant to provide a refuge from the world outside. They are places to pray
 \, learn\, celebrate\, mourn and serve others.\n\nThey are also the target
 s of violence.\n\nViolent hatred has intruded into our synagogues\, Jewish
  institutions\, camps and schools—and the minds of far too many individu
 als. The expression of this hatred has increased\, with a rise in anti-Sem
 itic incidents and an increase\nin hate crimes.\n\nThough long conditioned
  to be on alert to armed threats\, many...
DTSTART;TZID=America/New_York:20230810T140000
DTEND;TZID=America/New_York:20230810T150000
END:VEVENT
END:VCALENDAR
