BEGIN:VCALENDAR
PRODID:-//eluceo/ical//2.0/EN
VERSION:2.0
CALSCALE:GREGORIAN
BEGIN:VEVENT
UID:ad2901d024835db07112d5b148d81f87
DTSTAMP:20260420T071510Z
SUMMARY:Fiscal Year 2022 NSGP Technical Assistance Webinar
DESCRIPTION:Regional CT Security Initiative\nUpcoming Trainings & Assessmen
 ts\nhttps://securejewishct.org/trainings-assessments-calendar/fiscal-year-
 2022-nonprofit-security-grant-program-technical-assistance-webinar\n\nFEMA
  Grant Programs Directorate (GPD)\, in partnership with the Department of 
 Homeland Security Center for Faith-Based and Neighborhood Partnerships\, a
 nd the Cybersecurity and Infrastructure Security Agency\, invites faith-ba
 sed\, community\, and nonprofit organizations to participate in this webin
 ar regarding the fiscal year (FY) 2022 Nonprofit Security Grant Program (N
 SGP).
DTSTART;TZID=America/New_York:20220421T090000
DTEND;TZID=America/New_York:20220421T100000
END:VEVENT
END:VCALENDAR
