BEGIN:VCALENDAR
PRODID:-//eluceo/ical//2.0/EN
VERSION:2.0
CALSCALE:GREGORIAN
BEGIN:VEVENT
UID:115213bbaf88450ea3e7827bb23b1abf
DTSTAMP:20260420T095822Z
SUMMARY:Fiscal Year 2022 NSGP Technical Assistance Webinar
DESCRIPTION:Regional CT Security Initiative\nUpcoming Trainings & Assessmen
 ts\nhttps://securejewishct.org/trainings-assessments-calendar/fiscal-year-
 2022-nsgp-technical-assistance-webinar\n\nFEMA Grant Programs Directorate 
 (GPD)\, in partnership with the Department of Homeland Security Center for
  Faith-Based and Neighborhood Partnerships\, and the Cybersecurity and Inf
 rastructure Security Agency\, invites faith-based\, community\, and nonpro
 fit organizations to participate in this webinar regarding the fiscal year
  (FY) 2022 Nonprofit Security Grant Program (NSGP).
DTSTART;TZID=America/New_York:20220426T140000
DTEND;TZID=America/New_York:20220426T150000
END:VEVENT
END:VCALENDAR
