BEGIN:VCALENDAR
PRODID:-//eluceo/ical//2.0/EN
VERSION:2.0
CALSCALE:GREGORIAN
BEGIN:VEVENT
UID:4811ca40454ce6c378e7197be265bcd6
DTSTAMP:20260420T071805Z
SUMMARY:Hosting High Holiday Services: The Role of Greeters\, Ushers\, and 
 Volunteers
DESCRIPTION:Regional CT Security Initiative\nUpcoming Trainings & Assessmen
 ts\nhttps://securejewishct.org/trainings-assessments-calendar/hosting-high
 -holiday-services-the-role-of-greeters-ushers-and-volunteers\n\nPlease joi
 n SCN\, security executives\, law enforcement\, and professional as well a
 s volunteer leadership to prepare for the safety and security challenges f
 acing the Jewish community this High Holiday season.\n\n 
DTSTART;TZID=America/New_York:20230817T140000
DTEND;TZID=America/New_York:20230817T150000
END:VEVENT
END:VCALENDAR
