BEGIN:VCALENDAR
PRODID:-//eluceo/ical//2.0/EN
VERSION:2.0
CALSCALE:GREGORIAN
BEGIN:VEVENT
UID:c52e6f102502346976434bcba14590e3
DTSTAMP:20260420T131257Z
SUMMARY:Mishkan Israel Preschool CAT Training
DESCRIPTION:Regional CT Security Initiative\nUpcoming Trainings & Assessmen
 ts\nhttps://securejewishct.org/trainings-assessments-calendar/mishkan-isra
 el-preschool-cat-training\n\nAll trainings require registration to attend.
  If you are interested in attending\, please contact Michael Shanbrom at 
 mshanbrom@securecommunitynetwork.org to register.
DTSTART;TZID=America/New_York:20220313T000000
DTEND;TZID=America/New_York:20220313T235959
END:VEVENT
END:VCALENDAR
