BEGIN:VCALENDAR
PRODID:-//eluceo/ical//2.0/EN
VERSION:2.0
CALSCALE:GREGORIAN
BEGIN:VEVENT
UID:7d1c040047cc194bbd0ecfb3caad0241
DTSTAMP:20260420T135235Z
SUMMARY:Stop the Bleed Training
DESCRIPTION:Regional CT Security Initiative\nUpcoming Trainings & Assessmen
 ts\nhttps://securejewishct.org/trainings-assessments-calendar/stop-the-ble
 ed-training-05152023\n\nThe Jewish Federation of Greater New Haven\, with 
 the generous support of a LiveSecure grant through the Jewish Federations 
 of North America\, has launched a three (3) year phased initiative to prov
 ide Stop the Bleed kits to each and every Jewish community classroom in th
 e Greater New Haven area. In addition\, through its partnership with the S
 ecure Community Network (SCN)\, the Jewish Federation of Greater New Haven
  will make available lifesaving Stop the Bleed training to each Jewish com
 munity ...
DTSTART;TZID=America/New_York:20230515T190000
DTEND;TZID=America/New_York:20230515T200000
END:VEVENT
END:VCALENDAR
