BEGIN:VCALENDAR
PRODID:-//eluceo/ical//2.0/EN
VERSION:2.0
CALSCALE:GREGORIAN
BEGIN:VEVENT
UID:9c796f65bcf3f38323e22395e3e3a186
DTSTAMP:20260420T055622Z
SUMMARY:The Power of Hello: Practical Skills and Considerations Encore
DESCRIPTION:Regional CT Security Initiative\nUpcoming Trainings & Assessmen
 ts\nhttps://securejewishct.org/trainings-assessments-calendar/the-power-of
 -hello-practical-skills-and-considerations-encore\n\nUsed effectively\, th
 e right words can be a powerful tool. Synagogue clergy\, staff\, members\,
  and volunteers can contribute greatly to enhancing security by understand
 ing how to identify behavioral indicators and taking precautionary actions
  to safely mitigate the impacts of a potential attack. Simply saying "hell
 o" can prompt a casual conversation with a person\, providing an opportuni
 ty to observe and establish a connection. Initiating a “hello” enables
  individuals to observe and evaluate ...
DTSTART;TZID=America/New_York:20240806T203000
DTEND;TZID=America/New_York:20240806T220000
END:VEVENT
END:VCALENDAR
