BEGIN:VCALENDAR
PRODID:-//eluceo/ical//2.0/EN
VERSION:2.0
CALSCALE:GREGORIAN
BEGIN:VEVENT
UID:f791c4fa703983fc3906b7d1fd835efc
DTSTAMP:20260420T071815Z
SUMMARY:When Seconds Count: How to Stop the Bleed® to Save a Life
DESCRIPTION:Regional CT Security Initiative\nUpcoming Trainings & Assessmen
 ts\nhttps://securejewishct.org/trainings-assessments-calendar/when-seconds
 -count-how-to-stop-the-bleed-to-save-a-life\n\nSevere bleeding can cause s
 hock or death within five or 10 minutes\, and the number one cause of prev
 entable death after injury is bleeding. Training the community to know how
  to act quickly to stop the bleed will undoubtedly save lives in the mids
 t of an incident. Join the Secure Community Network for a webinar to learn
  lifesaving bleeding control skills using the nationally recognized Stop t
 he Bleed® curriculum\, led by Jewish communal security training experts.
DTSTART;TZID=America/New_York:20240807T140000
DTEND;TZID=America/New_York:20240807T153000
END:VEVENT
END:VCALENDAR
