BEGIN:VCALENDAR
PRODID:-//eluceo/ical//2.0/EN
VERSION:2.0
CALSCALE:GREGORIAN
BEGIN:VEVENT
UID:3c9f53a3aaf253d28237d14f770ca6e0
DTSTAMP:20260420T154418Z
SUMMARY:When Seconds Count: How to Stop the Bleed® to Save a Life Encore
DESCRIPTION:Regional CT Security Initiative\nUpcoming Trainings & Assessmen
 ts\nhttps://securejewishct.org/trainings-assessments-calendar/when-seconds
 -count-how-to-stop-the-bleed-to-save-a-life-encore\n\nSevere bleeding can 
 cause shock or death within five or 10 minutes\, and the number one cause 
 of preventable death after injury is bleeding. Training the community to k
 now how to act quickly to stop the bleed will undoubtedly save lives in t
 he midst of an incident. Join the Secure Community Network for a webinar t
 o learn lifesaving bleeding control skills using the nationally recognized
  Stop the Bleed® curriculum\, led by Jewish communal security training ex
 perts.
DTSTART;TZID=America/New_York:20240807T203000
DTEND;TZID=America/New_York:20240807T220000
END:VEVENT
END:VCALENDAR
