BEGIN:VCALENDAR
PRODID:-//eluceo/ical//2.0/EN
VERSION:2.0
CALSCALE:GREGORIAN
BEGIN:VEVENT
UID:51bfd293efa41d2b4c9c93e087ee35ca
DTSTAMP:20260420T071835Z
SUMMARY:When Seconds Count: Learn How to Stop the Bleed® to Save a Life
DESCRIPTION:Regional CT Security Initiative\nUpcoming Trainings & Assessmen
 ts\nhttps://securejewishct.org/trainings-assessments-calendar/when-seconds
 -count-learn-how-to-stop-the-bleed-to-save-a-life\n\nJoin the Secure Commu
 nity Network for a webinar to learn lifesaving bleeding control skills usi
 ng the nationally recognized Stop the Bleed® curriculum. Led by Jewish co
 mmunal security training experts\, this webinar will also include insight 
 from distinguished trauma surgeon Dr. Matthew D. Neal from the University 
 of Pittsburgh.\n\nThis webinar must be attended live\; a recording will no
 t be made available to registrants.\n\n 
DTSTART;TZID=America/New_York:20230518T120000
DTEND;TZID=America/New_York:20230518T131500
END:VEVENT
END:VCALENDAR
