BEGIN:VCALENDAR
PRODID:-//eluceo/ical//2.0/EN
VERSION:2.0
CALSCALE:GREGORIAN
BEGIN:VEVENT
UID:b9da01a39b58bee183e561cf9da7267f
DTSTAMP:20260420T093502Z
SUMMARY:When Seconds Count: Learn How to Stop the Bleed® to Save a Life
DESCRIPTION:Regional CT Security Initiative\nUpcoming Trainings & Assessmen
 ts\nhttps://securejewishct.org/trainings-assessments-calendar/when-seconds
 -count-learn-how-to-stop-the-bleed-to-save-a-life-2\n\nJoin the Secure Com
 munity Network for a webinar to learn lifesaving bleeding control skills u
 sing the nationally recognized Stop the Bleed® curriculum. Led by Jewish 
 communal security training experts\, this webinar will also include insigh
 t from distinguished trauma surgeon Dr. Matthew D. Neal from the Universit
 y of Pittsburgh.\n\nThis webinar must be attended live\; a recording will 
 not be made available to registrants.
DTSTART;TZID=America/New_York:20230518T190000
DTEND;TZID=America/New_York:20230518T201500
END:VEVENT
END:VCALENDAR
